BEGIN:VCALENDAR
VERSION:2.0
CALSCALE:GREGORIAN
PRODID:-//Diputació de Barcelona//DibaCMS//EN
BEGIN:VEVENT
UID:5859
DTSTAMP:20260422T014104
DTSTART:20130304T000000
DTEND:20140304T000000
SUMMARY:Molta afluència de públic durant la Fira Medieval celebrada durant el cap de setmana
LOCATION:
METHOD:PUBLISH
X-WR-CALNAME:llagosta@llagosta.cat
X-WR-TIMEZONE:Europe/Madrid
DESCRIPTION:La Fira Medieval, celebrada el cap de setmana al Parc Popular, ha comptat amb una molt bona afluència de públic. Durant els dos dies, els visitants han pogut veure i comprar productes artesanals de tot tipus i participar a les diferents activitats paral·leles que s'han organitzat.
URI:https://www.llagosta.cat/actualitat/noticies/molta-afluencia-de-public-durant-la-fira-medieval-celebrada-durant-el-cap-de-setmana.html
CLASS:PUBLIC
END:VEVENT
END:VCALENDAR
