BEGIN:VCALENDAR
VERSION:2.0
CALSCALE:GREGORIAN
PRODID:-//Diputació de Barcelona//DibaCMS//EN
BEGIN:VEVENT
UID:5858
DTSTAMP:20260422T182610
DTSTART:20130304T000000
DTEND:20140304T000000
SUMMARY:La Unión Llagostense goleja el Santa Eulàlia (6-2) i es manté en cinquena posició
LOCATION:
METHOD:PUBLISH
X-WR-CALNAME:llagosta@llagosta.cat
X-WR-TIMEZONE:Europe/Madrid
DESCRIPTION:El primer equip del Fútbol Sala Unión Llagostense va guanyar el cap de setmana per 6 a 2 el Santa Eulàlia de Ronçana. El conjunt de la nostra població afrontava el partit amb baixes, però va ser superior al seu rival.
URI:https://www.llagosta.cat/actualitat/noticies/la-union-llagostense-goleja-el-santa-eulalia-6-2-i-es-mante-en-cinquena-posicio.html
CLASS:PUBLIC
END:VEVENT
END:VCALENDAR
