BEGIN:VCALENDAR
VERSION:2.0
CALSCALE:GREGORIAN
PRODID:-//Diputació de Barcelona//DibaCMS//EN
BEGIN:VEVENT
UID:5857
DTSTAMP:20260424T110631
DTSTART:20130301T000000
DTEND:20140301T000000
SUMMARY:Aquest cap de setmana se celebra una nova edició de la Fira Medieval al Parc Popular
LOCATION:
METHOD:PUBLISH
X-WR-CALNAME:llagosta@llagosta.cat
X-WR-TIMEZONE:Europe/Madrid
DESCRIPTION:El Parc Popular acollirà aquest cap de setmana una nova edició de la Fira Medieval. Un bon nombre de parades s'instal·laran en aquest espai durant tot el dissabte i el diumenge. 
URI:https://www.llagosta.cat/actualitat/noticies/aquest-cap-de-setmana-se-celebra-una-nova-edicio-de-la-fira-medieval-al-parc-popular.html
CLASS:PUBLIC
END:VEVENT
END:VCALENDAR
