BEGIN:VCALENDAR
VERSION:2.0
CALSCALE:GREGORIAN
PRODID:-//Diputació de Barcelona//DibaCMS//EN
BEGIN:VEVENT
UID:5856
DTSTAMP:20260422T200407
DTSTART:20130301T000000
DTEND:20140301T000000
SUMMARY:El Casal Infantil va organitzar ahir uns tallers mediambientals a la Biblioteca
LOCATION:
METHOD:PUBLISH
X-WR-CALNAME:llagosta@llagosta.cat
X-WR-TIMEZONE:Europe/Madrid
DESCRIPTION:Un bon nombre de famílies es va apropar ahir a la Biblioteca Municipal de la Llagosta per participar als tallers mediambientals organitzats per l'equip de monitors i monitores del Casal Infantil dins del programa Casal Obert, que es realitza els dijous a la tarda en diferents serveis i espais del poble.
URI:https://www.llagosta.cat/actualitat/noticies/el-casal-infantil-va-organitzar-ahir-uns-tallers-mediambientals-a-la-biblioteca.html
CLASS:PUBLIC
END:VEVENT
END:VCALENDAR
