BEGIN:VCALENDAR
VERSION:2.0
CALSCALE:GREGORIAN
PRODID:-//Diputació de Barcelona//DibaCMS//EN
BEGIN:VEVENT
UID:5855
DTSTAMP:20260422T123114
DTSTART:20130301T000000
DTEND:20140201T000000
SUMMARY:Dilluns, tertúlia literària al Centre de Formació d'Adults de la Llagosta
LOCATION:
METHOD:PUBLISH
X-WR-CALNAME:llagosta@llagosta.cat
X-WR-TIMEZONE:Europe/Madrid
DESCRIPTION:El Centre de Formació d'Adults de la Llagosta acollirà dilluns, 4 de març, una tertúlia literària sobre el llibre Pedra de Tartera, amb la presència de la seva escriptora, Maria Barbal. L'acte tindrà lloc a les sis de la tarda.
URI:https://www.llagosta.cat/actualitat/noticies/dilluns-tertulia-literaria-al-centre-de-formacio-dadults-de-la-llagosta.html
CLASS:PUBLIC
END:VEVENT
END:VCALENDAR
