BEGIN:VCALENDAR
VERSION:2.0
CALSCALE:GREGORIAN
PRODID:-//Diputació de Barcelona//DibaCMS//EN
BEGIN:VEVENT
UID:5854
DTSTAMP:20260423T035758
DTSTART:20130301T000000
DTEND:20140301T000000
SUMMARY:La sortida a la neu de demà, suspesa perquè no hi ha un nombre mínim d'inscrits
LOCATION:
METHOD:PUBLISH
X-WR-CALNAME:llagosta@llagosta.cat
X-WR-TIMEZONE:Europe/Madrid
DESCRIPTION:La sortida a la neu programada per a demà pel Servei d'Informació Juvenil Pelegrí, conjuntament amb altres ajuntaments de la comarca, s'ha anul·lat. La baixa inscripció ha provocat que els organitzadors hagin decidit suspendre l'esquiada. 
URI:https://www.llagosta.cat/actualitat/noticies/la-sortida-a-la-neu-de-dema-suspesa-perque-no-hi-ha-un-nombre-minim-dinscrits.html
CLASS:PUBLIC
END:VEVENT
END:VCALENDAR
