BEGIN:VCALENDAR
VERSION:2.0
CALSCALE:GREGORIAN
PRODID:-//Diputació de Barcelona//DibaCMS//EN
BEGIN:VEVENT
UID:5853
DTSTAMP:20260422T140519
DTSTART:20130301T000000
DTEND:20140301T000000
SUMMARY:El sènior del Joventut Handbol La Llagosta encaixa la primera derrota a la lliga
LOCATION:
METHOD:PUBLISH
X-WR-CALNAME:llagosta@llagosta.cat
X-WR-TIMEZONE:Europe/Madrid
DESCRIPTION:El sènior del Joventut Handbol La Llagosta va patir la jornada passada la primera derrota de la temporada en perdre a la pista del Ripollet per 26 a 25. Tot i aquest resultat dolent, els llagostencs continuen com a líders destacats del seu grup.
URI:https://www.llagosta.cat/actualitat/noticies/el-senior-del-joventut-handbol-la-llagosta-encaixa-la-primera-derrota-a-la-lliga.html
CLASS:PUBLIC
END:VEVENT
END:VCALENDAR
