BEGIN:VCALENDAR
VERSION:2.0
CALSCALE:GREGORIAN
PRODID:-//Diputació de Barcelona//DibaCMS//EN
BEGIN:VEVENT
UID:5852
DTSTAMP:20260422T141833
DTSTART:20130228T000000
DTEND:20140228T000000
SUMMARY:El sènior de l'Handbol Club Vallag venç el Calella i manté la segona posició 
LOCATION:
METHOD:PUBLISH
X-WR-CALNAME:llagosta@llagosta.cat
X-WR-TIMEZONE:Europe/Madrid
DESCRIPTION:El sènior de l'Handbol Club Vallag de la Llagosta va vèncer la jornada passada per 33 a 23 el Calella. Els de la nostra localitat van fer un bon partit, que els va servir per mantenir la segona posició a la taula. El proper cap de setmana, els llagostencs tindran jornada de descans.
URI:https://www.llagosta.cat/actualitat/noticies/el-senior-de-lhandbol-club-vallag-venc-el-calella-i-mante-la-segona-posicio-.html
CLASS:PUBLIC
END:VEVENT
END:VCALENDAR
