BEGIN:VCALENDAR
VERSION:2.0
CALSCALE:GREGORIAN
PRODID:-//Diputació de Barcelona//DibaCMS//EN
BEGIN:VEVENT
UID:5851
DTSTAMP:20260422T235520
DTSTART:20130228T000000
DTEND:20140228T000000
SUMMARY:L'alcalde defensarà demà als jutjats la intervenció del Complex Esportiu Municipal El Turó
LOCATION:
METHOD:PUBLISH
X-WR-CALNAME:llagosta@llagosta.cat
X-WR-TIMEZONE:Europe/Madrid
DESCRIPTION:L'alcalde de la Llagosta, Alberto López, compareixerà demà als Jutjats de Mollet per defensar la decisió de l'Ajuntament d'intervenir el Complex Esportiu Municipal El Turó durant l'estiu passat. La compareixença obeeix a la querella presentada per l'anterior empresa concessionària de la instal·lació, Geafe.
URI:https://www.llagosta.cat/actualitat/noticies/lalcalde-defensara-dema-als-jutjats-la-intervencio-del-complex-esportiu-municipal-el-turo.html
CLASS:PUBLIC
END:VEVENT
END:VCALENDAR
