BEGIN:VCALENDAR
VERSION:2.0
CALSCALE:GREGORIAN
PRODID:-//Diputació de Barcelona//DibaCMS//EN
BEGIN:VEVENT
UID:5850
DTSTAMP:20260422T131223
DTSTART:20130228T000000
DTEND:20140228T000000
SUMMARY:L'infantil masculí d'handbol de l'Escola d'Iniciació Esportiva, campió comarcal
LOCATION:
METHOD:PUBLISH
X-WR-CALNAME:llagosta@llagosta.cat
X-WR-TIMEZONE:Europe/Madrid
DESCRIPTION:El conjunt infantil masculí d'handbol de l'Escola d'Iniciació Esportiva de la Llagosta s'ha proclamat campió de la lliga del Consell Esportiu del Vallès Oriental. Els llagostencs es van imposar dissabte en el partit de tornada de la final, disputat al Poliesportiu Riera Seca, al Canovelles per 23 a 20. 
URI:https://www.llagosta.cat/actualitat/noticies/linfantil-masculi-dhandbol-de-lescola-diniciacio-esportiva-campio-comarcal.html
CLASS:PUBLIC
END:VEVENT
END:VCALENDAR
