BEGIN:VCALENDAR
VERSION:2.0
CALSCALE:GREGORIAN
PRODID:-//Diputació de Barcelona//DibaCMS//EN
BEGIN:VEVENT
UID:5849
DTSTAMP:20260422T105519
DTSTART:20130228T000000
DTEND:20140228T000000
SUMMARY:Un total de 150 estudiants de la Llagosta participaran en el nou Curs d'educació viària 
LOCATION:
METHOD:PUBLISH
X-WR-CALNAME:llagosta@llagosta.cat
X-WR-TIMEZONE:Europe/Madrid
DESCRIPTION:El Curs d'educació viària impartit per la Policia Local de la Llagosta arriba a la seva 25a edició. Enguany, prop de 150 alumnes de 5è de Primària de les escoles de la nostra localitat participaran en aquesta activitat. Les classes s'impartiran per grups de l'11 de març al 19 d'abril.
URI:https://www.llagosta.cat/actualitat/noticies/un-total-de-150-estudiants-de-la-llagosta-participaran-en-el-nou-curs-deducacio-viaria-.html
CLASS:PUBLIC
END:VEVENT
END:VCALENDAR
