BEGIN:VCALENDAR
VERSION:2.0
CALSCALE:GREGORIAN
PRODID:-//Diputació de Barcelona//DibaCMS//EN
BEGIN:VEVENT
UID:5848
DTSTAMP:20260422T235032
DTSTART:20130228T000000
DTEND:20140228T000000
SUMMARY:Avui es distribueix el Butlletí d'Informació Municipal del mes de març
LOCATION:
METHOD:PUBLISH
X-WR-CALNAME:llagosta@llagosta.cat
X-WR-TIMEZONE:Europe/Madrid
DESCRIPTION:L'Ajuntament de la Llagosta distribueix avui el Butlletí d'Informació Municipal del mes de març. En portada, hi ha una informació sobre la celebració del Dia Internacional de les dones a la Llagosta. A la publicació, també es poden veure algunes fotografies de la darrera celebració de Carnaval i es pot consultar la programació d'actes de les Festes de Sant Josep.
URI:https://www.llagosta.cat/actualitat/noticies/avui-es-distribueix-el-butlleti-dinformacio-municipal-del-mes-de-marc.html
CLASS:PUBLIC
END:VEVENT
END:VCALENDAR
