BEGIN:VCALENDAR
VERSION:2.0
CALSCALE:GREGORIAN
PRODID:-//Diputació de Barcelona//DibaCMS//EN
BEGIN:VEVENT
UID:5847
DTSTAMP:20260422T132621
DTSTART:20130228T000000
DTEND:20140228T000000
SUMMARY:El conjunt sènior de l'EBC La Llagosta se situa en vuitena posició en guanyar el Montmeló
LOCATION:
METHOD:PUBLISH
X-WR-CALNAME:llagosta@llagosta.cat
X-WR-TIMEZONE:Europe/Madrid
DESCRIPTION:El sènior de l'Esportiu Bàsquet Club de la Llagosta va guanyar la jornada passada a la pista del penúltim classificat, el Montmeló, per 41 a 70.  El conjunt que entrena Pablo Romero ja dominava en el primer quart per 2 a 24 i no va tenir cap problema per sumar la desena victòria de la temporada, que li permet allunyar-se de la zona baixa de la classificació.
URI:https://www.llagosta.cat/actualitat/noticies/el-conjunt-senior-de-lebc-la-llagosta-se-situa-en-vuitena-posicio-en-guanyar-el-montmelo.html
CLASS:PUBLIC
END:VEVENT
END:VCALENDAR
