BEGIN:VCALENDAR
VERSION:2.0
CALSCALE:GREGORIAN
PRODID:-//Diputació de Barcelona//DibaCMS//EN
BEGIN:VEVENT
UID:5846
DTSTAMP:20260422T154024
DTSTART:20130227T000000
DTEND:20140227T000000
SUMMARY:Una cinquantena de persones crea uns horts comunitaris en terrenys de Can Xiquet
LOCATION:
METHOD:PUBLISH
X-WR-CALNAME:llagosta@llagosta.cat
X-WR-TIMEZONE:Europe/Madrid
DESCRIPTION:Una cinquantena de persones van participar diumenge en la creació d'uns horts comunitaris als terrenys privats de Can Xiquet, a la Llagosta. Amb aquesta acció es pretenia reivindicar la recuperació de la terra per al cultiu i donar una sortida a les necessitats alimentàries que pateixen moltes persones en aquest temps de crisi.
URI:https://www.llagosta.cat/actualitat/noticies/una-cinquantena-de-persones-crea-uns-horts-comunitaris-en-terrenys-de-can-xiquet.html
CLASS:PUBLIC
END:VEVENT
END:VCALENDAR
