BEGIN:VCALENDAR
VERSION:2.0
CALSCALE:GREGORIAN
PRODID:-//Diputació de Barcelona//DibaCMS//EN
BEGIN:VEVENT
UID:5845
DTSTAMP:20260422T141241
DTSTART:20130227T000000
DTEND:20140227T000000
SUMMARY:La Biblioteca Municipal de la Llagosta compta ja amb un bloc per apropar-se als usuaris
LOCATION:
METHOD:PUBLISH
X-WR-CALNAME:llagosta@llagosta.cat
X-WR-TIMEZONE:Europe/Madrid
DESCRIPTION:La Biblioteca Municipal de la Llagosta ha estrenat un bloc, bibliotecalallagosta.blogspot.com. La Biblioteca vol apropar així més la seva activitat als usuaris del centre. 
URI:https://www.llagosta.cat/actualitat/noticies/la-biblioteca-municipal-de-la-llagosta-compta-ja-amb-un-bloc-per-apropar-se-als-usuaris.html
CLASS:PUBLIC
END:VEVENT
END:VCALENDAR
