BEGIN:VCALENDAR
VERSION:2.0
CALSCALE:GREGORIAN
PRODID:-//Diputació de Barcelona//DibaCMS//EN
BEGIN:VEVENT
UID:5844
DTSTAMP:20260422T230626
DTSTART:20130227T000000
DTEND:20140227T000000
SUMMARY:Luna Sierra guanya els tres combats d'un campionat de taekwondo a Palma de Mallorca
LOCATION:
METHOD:PUBLISH
X-WR-CALNAME:llagosta@llagosta.cat
X-WR-TIMEZONE:Europe/Madrid
DESCRIPTION:L'esportista llagostenca Luna Sierra Pardo va participar el cap de setmana passat en una trobada de clubs de taekwondo que va tenir lloc a Palma de Mallorca. Després de diversos entrenaments, es va celebrar un campionat en el qual Luna Sierra va disputar tres combats amb competidores de diferents comunitats autònomes i va guanyar els tres. 
URI:https://www.llagosta.cat/actualitat/noticies/luna-sierra-guanya-els-tres-combats-dun-campionat-de-taekwondo-a-palma-de-mallorca.html
CLASS:PUBLIC
END:VEVENT
END:VCALENDAR
