BEGIN:VCALENDAR
VERSION:2.0
CALSCALE:GREGORIAN
PRODID:-//Diputació de Barcelona//DibaCMS//EN
BEGIN:VEVENT
UID:5843
DTSTAMP:20260422T142446
DTSTART:20130227T000000
DTEND:20140227T000000
SUMMARY:Demà, xerrada a l'Escola Joan Maragall adreçada als pares sobre internet segura 
LOCATION:
METHOD:PUBLISH
X-WR-CALNAME:llagosta@llagosta.cat
X-WR-TIMEZONE:Europe/Madrid
DESCRIPTION:L'Escola de Pares i Mares de la Llagosta ofereix demà a les sis de la tarda una xerrada sobre internet. La conferència, que es farà a l'Escola Joan Maragall, porta per títol Internet segura. Com protegeixo als meus fills i filles dels riscos davant l'ordinador?
URI:https://www.llagosta.cat/actualitat/noticies/dema-xerrada-a-lescola-joan-maragall-adrecada-als-pares-sobre-internet-segura-.html
CLASS:PUBLIC
END:VEVENT
END:VCALENDAR
