BEGIN:VCALENDAR
VERSION:2.0
CALSCALE:GREGORIAN
PRODID:-//Diputació de Barcelona//DibaCMS//EN
BEGIN:VEVENT
UID:5842
DTSTAMP:20260422T111121
DTSTART:20130227T000000
DTEND:20140227T000000
SUMMARY:El judoka llagostenc Iván Buendía, bronze en el Campionat de Catalunya 
LOCATION:
METHOD:PUBLISH
X-WR-CALNAME:llagosta@llagosta.cat
X-WR-TIMEZONE:Europe/Madrid
DESCRIPTION:El judoka del Club de Judo del Gimnàs La Llagosta Iván Buendía s'ha classificat per disputar la fase sector i poder accedir al Campionat d'Espanya Júnior. L'esportista de la nostra localitat va aconseguir dissabte la medalla de bronze al Campionat de Catalunya a la categoria de menys de 73 quilos. El judoka llagostenc arribava al campionat amb la intenció de fer com a molt un tercer lloc, ja que la categoria es presentava molt complicada. Aquest any, el sub-20 s'ha ampliat a sub-21 i això complicava les opcions de Buendía. El sorteig de l'inici de la competició va beneficiar el de la nostra localitat i es va plantejar la possibilitat de lluitar pel títol.
URI:https://www.llagosta.cat/actualitat/noticies/el-judoka-llagostenc-ivan-buendia-bronze-en-el-campionat-de-catalunya-.html
CLASS:PUBLIC
END:VEVENT
END:VCALENDAR
