BEGIN:VCALENDAR
VERSION:2.0
CALSCALE:GREGORIAN
PRODID:-//Diputació de Barcelona//DibaCMS//EN
BEGIN:VEVENT
UID:5841
DTSTAMP:20260422T073542
DTSTART:20130227T000000
DTEND:20140227T000000
SUMMARY:La Concòrdia perd a la pista del Can Clos (3-2) abans de rebre la visita del líder
LOCATION:
METHOD:PUBLISH
X-WR-CALNAME:llagosta@llagosta.cat
X-WR-TIMEZONE:Europe/Madrid
DESCRIPTION:El Club Deportivo La Concòrdia va caure el cap de setmana passat per 3 a 2 a la pista del Can Clos de Ripollet. Les de la nostra localitat van arribar a perdre per 2 a 0 i van empatar, però, en el darrer minut, van encaixar el gol de la derrota.
URI:https://www.llagosta.cat/actualitat/noticies/la-concordia-perd-a-la-pista-del-can-clos-3-2-abans-de-rebre-la-visita-del-lider.html
CLASS:PUBLIC
END:VEVENT
END:VCALENDAR
