BEGIN:VCALENDAR
VERSION:2.0
CALSCALE:GREGORIAN
PRODID:-//Diputació de Barcelona//DibaCMS//EN
BEGIN:VEVENT
UID:5840
DTSTAMP:20260422T190206
DTSTART:20130226T000000
DTEND:20140226T000000
SUMMARY:TELL va un balanç positiu de la festa de celebració dels seus cinc anys d'existència
LOCATION:
METHOD:PUBLISH
X-WR-CALNAME:llagosta@llagosta.cat
X-WR-TIMEZONE:Europe/Madrid
DESCRIPTION:El grup de teatre TELL de la Llagosta ha fet un balanç positiu de la celebració del seu cinquè aniversari. Unes 170 persones van assistir a l'acte, que es va fer dissabte al vespre al Centre Cultural.
URI:https://www.llagosta.cat/actualitat/noticies/tell-va-un-balanc-positiu-de-la-festa-de-celebracio-dels-seus-cinc-anys-dexistencia.html
CLASS:PUBLIC
END:VEVENT
END:VCALENDAR
