BEGIN:VCALENDAR
VERSION:2.0
CALSCALE:GREGORIAN
PRODID:-//Diputació de Barcelona//DibaCMS//EN
BEGIN:VEVENT
UID:5839
DTSTAMP:20260422T071803
DTSTART:20130226T000000
DTEND:20140226T000000
SUMMARY:Les Jornades de portes obertes als centres educatius de la Llagosta comencen demà
LOCATION:
METHOD:PUBLISH
X-WR-CALNAME:llagosta@llagosta.cat
X-WR-TIMEZONE:Europe/Madrid
DESCRIPTION:Demà, començaran les Jornades de portes obertes prèvies a les preinscripcions escolars del curs 2013-2014. Tots els centres educatius d'ensenyament infantil, primari i secundària i les escoles bressol de la nostra localitat ensenyaran les seves instal·lacions i els seus projectes educatius a les persones interessades.
URI:https://www.llagosta.cat/actualitat/noticies/les-jornades-de-portes-obertes-als-centres-educatius-de-la-llagosta-comencen-dema.html
CLASS:PUBLIC
END:VEVENT
END:VCALENDAR
