BEGIN:VCALENDAR
VERSION:2.0
CALSCALE:GREGORIAN
PRODID:-//Diputació de Barcelona//DibaCMS//EN
BEGIN:VEVENT
UID:5838
DTSTAMP:20260422T071603
DTSTART:20130226T000000
DTEND:20140226T000000
SUMMARY:El Viejas Glorias va guanyar el cap de setmana el Can Clos per 4 a 2 en un bon partit
LOCATION:
METHOD:PUBLISH
X-WR-CALNAME:llagosta@llagosta.cat
X-WR-TIMEZONE:Europe/Madrid
DESCRIPTION:El Club Deportivo Viejas Glorias va guanyar la jornada passada el Can Clos per 4 a 2 en un partit bastant igualat. Els llagostencs es van avançar ràpidament amb un gol de Valero.
URI:https://www.llagosta.cat/actualitat/noticies/el-viejas-glorias-va-guanyar-el-cap-de-setmana-el-can-clos-per-4-a-2-en-un-bon-partit.html
CLASS:PUBLIC
END:VEVENT
END:VCALENDAR
