BEGIN:VCALENDAR
VERSION:2.0
CALSCALE:GREGORIAN
PRODID:-//Diputació de Barcelona//DibaCMS//EN
BEGIN:VEVENT
UID:5837
DTSTAMP:20260422T072717
DTSTART:20130225T000000
DTEND:20140225T000000
SUMMARY:Molt de públic ahir a la primera Fira d'Adopcions d'animals abandonats de la Llagosta
LOCATION:
METHOD:PUBLISH
X-WR-CALNAME:llagosta@llagosta.cat
X-WR-TIMEZONE:Europe/Madrid
DESCRIPTION:Un bon nombre de gent es va apropar ahir diumenge al matí al Parc Popular a la primera Fira d'Adopcions d'animals abandonats. Exhibicions de gossos, presentació de productes per a animals, classes d'educació canina i altres activitats van ser organitzades per Help Guau amb la col·laboració de l'Ajuntament de la Llagosta.
URI:https://www.llagosta.cat/actualitat/noticies/molt-de-public-ahir-a-la-primera-fira-dadopcions-danimals-abandonats-de-la-llagosta.html
CLASS:PUBLIC
END:VEVENT
END:VCALENDAR
