BEGIN:VCALENDAR
VERSION:2.0
CALSCALE:GREGORIAN
PRODID:-//Diputació de Barcelona//DibaCMS//EN
BEGIN:VEVENT
UID:5836
DTSTAMP:20260422T071621
DTSTART:20130225T000000
DTEND:20140221T000000
SUMMARY:Demà, comença el taller de ritmes que organitza La Llagosta + Activa
LOCATION:
METHOD:PUBLISH
X-WR-CALNAME:llagosta@llagosta.cat
X-WR-TIMEZONE:Europe/Madrid
DESCRIPTION:La Llagosta + Activa iniciarà demà el taller de ritmes. Les sessions d'aquesta activitat es faran a l'antic Centre Cultural del carrer de la Florida. Hi ha programats dos grups, el primer a dos quarts de set i el segon a dos quarts de vuit del vespre.
URI:https://www.llagosta.cat/actualitat/noticies/dema-comenca-el-taller-de-ritmes-que-organitza-la-llagosta--activa.html
CLASS:PUBLIC
END:VEVENT
END:VCALENDAR
