BEGIN:VCALENDAR
VERSION:2.0
CALSCALE:GREGORIAN
PRODID:-//Diputació de Barcelona//DibaCMS//EN
BEGIN:VEVENT
UID:5835
DTSTAMP:20260422T105623
DTSTART:20130225T000000
DTEND:20140225T000000
SUMMARY:El FS Unión Llagostense, molt perjudicat per l'arbitratge, perd a Gavà per 4 a 1
LOCATION:
METHOD:PUBLISH
X-WR-CALNAME:llagosta@llagosta.cat
X-WR-TIMEZONE:Europe/Madrid
DESCRIPTION:El primer equip del Fútbol Sala Unión Llagostense va perdre el cap de setmana a la pista del Gavà per 4 a 1. Els de la nostra localitat estan indignats amb l'arbitratge que van patir.
URI:https://www.llagosta.cat/actualitat/noticies/el-fs-union-llagostense-molt-perjudicat-per-larbitratge-perd-a-gava-per-4-a-1.html
CLASS:PUBLIC
END:VEVENT
END:VCALENDAR
