BEGIN:VCALENDAR
VERSION:2.0
CALSCALE:GREGORIAN
PRODID:-//Diputació de Barcelona//DibaCMS//EN
BEGIN:VEVENT
UID:5834
DTSTAMP:20260422T071503
DTSTART:20130222T000000
DTEND:20140222T000000
SUMMARY:El Centre Cultural acollirà demà la celebració del cinquè aniversari de TELL
LOCATION:
METHOD:PUBLISH
X-WR-CALNAME:llagosta@llagosta.cat
X-WR-TIMEZONE:Europe/Madrid
DESCRIPTION:El grup de teatre TELL de la Llagosta celebrarà demà el seu cinquè aniversari amb un sopar espectacle. La festa es farà a partir de les vuit del vespre al Centre Cultural amb la participació de 170 persones.
URI:https://www.llagosta.cat/actualitat/noticies/el-centre-cultural-acollira-dema-la-celebracio-del-cinque-aniversari-de-tell.html
CLASS:PUBLIC
END:VEVENT
END:VCALENDAR
