BEGIN:VCALENDAR
VERSION:2.0
CALSCALE:GREGORIAN
PRODID:-//Diputació de Barcelona//DibaCMS//EN
BEGIN:VEVENT
UID:5833
DTSTAMP:20260422T142541
DTSTART:20130222T000000
DTEND:20140222T000000
SUMMARY:L'alcalde ha participat aquest matí en una trobada amb alumnes de l'Institut Marina
LOCATION:
METHOD:PUBLISH
X-WR-CALNAME:llagosta@llagosta.cat
X-WR-TIMEZONE:Europe/Madrid
DESCRIPTION:L'alcalde de la Llagosta, Alberto López, ha participat aquest matí en una tertúlia amb alumnes de Batxillerat de l'Institut Marina. L'activitat s'ha desenvolupat a la sala Àgora d'aquest centre educatiu.
URI:https://www.llagosta.cat/actualitat/noticies/lalcalde-ha-participat-aquest-mati-en-una-trobada-amb-alumnes-de-linstitut-marina.html
CLASS:PUBLIC
END:VEVENT
END:VCALENDAR
