BEGIN:VCALENDAR
VERSION:2.0
CALSCALE:GREGORIAN
PRODID:-//Diputació de Barcelona//DibaCMS//EN
BEGIN:VEVENT
UID:5832
DTSTAMP:20260422T123314
DTSTART:20130222T000000
DTEND:20140222T000000
SUMMARY:Protecció Civil manté la prealerta per risc de nevades i baixada de les temperatures
LOCATION:
METHOD:PUBLISH
X-WR-CALNAME:llagosta@llagosta.cat
X-WR-TIMEZONE:Europe/Madrid
DESCRIPTION:La Direcció General de Protecció Civil de la Generalitat manté la prealerta per la previsió de nevades a cotes baixes i la baixada important de les temperatures. Davant d'aquesta onada de fred, es recomana seguir una sèrie de consells per evitar accidents tant a la llar com a fora.
URI:https://www.llagosta.cat/actualitat/noticies/proteccio-civil-mante-la-prealerta-per-risc-de-nevades-i-baixada-de-les-temperatures.html
CLASS:PUBLIC
END:VEVENT
END:VCALENDAR
