BEGIN:VCALENDAR
VERSION:2.0
CALSCALE:GREGORIAN
PRODID:-//Diputació de Barcelona//DibaCMS//EN
BEGIN:VEVENT
UID:5831
DTSTAMP:20260422T072416
DTSTART:20130222T000000
DTEND:20140222T000000
SUMMARY:El sènior del Joventut Handbol la Llagosta guanya el Balsareny i jugarà la fase d'ascens
LOCATION:
METHOD:PUBLISH
X-WR-CALNAME:llagosta@llagosta.cat
X-WR-TIMEZONE:Europe/Madrid
DESCRIPTION:El sènior del Joventut Handbol La Llagosta s'ha classificat matemàticament per disputar la fase d'ascens a Tercera Preferent després de vèncer per 30 a 24 el Balsareny. Els de la nostra localitat continuen sumant victòries i han guanyat tots els partits de lliga disputats.
URI:https://www.llagosta.cat/actualitat/noticies/el-senior-del-joventut-handbol-la-llagosta-guanya-el-balsareny-i-jugara-la-fase-dascens.html
CLASS:PUBLIC
END:VEVENT
END:VCALENDAR
