BEGIN:VCALENDAR
VERSION:2.0
CALSCALE:GREGORIAN
PRODID:-//Diputació de Barcelona//DibaCMS//EN
BEGIN:VEVENT
UID:5830
DTSTAMP:20260422T090010
DTSTART:20130222T000000
DTEND:20140222T000000
SUMMARY:El Casal Infantil va organitzar ahir una activitat per potenciar els cinc sentits
LOCATION:
METHOD:PUBLISH
X-WR-CALNAME:llagosta@llagosta.cat
X-WR-TIMEZONE:Europe/Madrid
DESCRIPTION:Més de cent persones van assistir ahir a l'activitat intergeneracional Amb els cinc sentits, que va organitzar l'equip de monitors i monitores del Casal Infantil dins del programa Casal Obert. El Casal Infantil va acollir públic de totes les edats, des de nadons fins a avis i àvies, en un ambient agradable i familiar.
URI:https://www.llagosta.cat/actualitat/noticies/el-casal-infantil-va-organitzar-ahir-una-activitat-per-potenciar-els-cinc-sentits.html
CLASS:PUBLIC
END:VEVENT
END:VCALENDAR
