BEGIN:VCALENDAR
VERSION:2.0
CALSCALE:GREGORIAN
PRODID:-//Diputació de Barcelona//DibaCMS//EN
BEGIN:VEVENT
UID:5829
DTSTAMP:20260422T162033
DTSTART:20130221T000000
DTEND:20140221T000000
SUMMARY:El col·lectiu en defensa de Can Piella farà diumenge una acció reivindicativa a la Llagosta
LOCATION:
METHOD:PUBLISH
X-WR-CALNAME:llagosta@llagosta.cat
X-WR-TIMEZONE:Europe/Madrid
DESCRIPTION:El col·lectiu de defensa de Can Piella encara continua ocupant la masia, tot i l'ordre judicial de desallotjament cautelar dictada pel Jutjat número 3 de Cerdanyola. Un grup de persones mantenen l'activitat normal que es desenvolupa en aquests terrenys de Montcada des de fa més de tres anys.
URI:https://www.llagosta.cat/actualitat/noticies/el-collectiu-en-defensa-de-can-piella-fara-diumenge-una-accio-reivindicativa-a-la-llagosta.html
CLASS:PUBLIC
END:VEVENT
END:VCALENDAR
