BEGIN:VCALENDAR
VERSION:2.0
CALSCALE:GREGORIAN
PRODID:-//Diputació de Barcelona//DibaCMS//EN
BEGIN:VEVENT
UID:5828
DTSTAMP:20260422T071747
DTSTART:20130221T000000
DTEND:20140221T000000
SUMMARY:Demà, xerrada sobre plantes típiques de Galícia a la seu d'Alborada
LOCATION:
METHOD:PUBLISH
X-WR-CALNAME:llagosta@llagosta.cat
X-WR-TIMEZONE:Europe/Madrid
DESCRIPTION:L'entitat local Animalets i l'Agrupación Cultural Galega Alborada organitzen demà una xerrada sobre la cura i el cultiu de plantes típiques de Galícia. L'activitat es farà a la seu d'Alborada a partir de les set de la tarda.
URI:https://www.llagosta.cat/actualitat/noticies/dema-xerrada-sobre-plantes-tipiques-de-galicia-a-la-seu-dalborada.html
CLASS:PUBLIC
END:VEVENT
END:VCALENDAR
