BEGIN:VCALENDAR
VERSION:2.0
CALSCALE:GREGORIAN
PRODID:-//Diputació de Barcelona//DibaCMS//EN
BEGIN:VEVENT
UID:5827
DTSTAMP:20260422T162424
DTSTART:20130221T000000
DTEND:20140221T000000
SUMMARY:El CD La Concòrdia derrota el Mont-roig per 3 a 2 i puja fins a la quarta posició
LOCATION:
METHOD:PUBLISH
X-WR-CALNAME:llagosta@llagosta.cat
X-WR-TIMEZONE:Europe/Madrid
DESCRIPTION:El Club Deportivo La Concòrdia jugarà el cap de setmana contra el Can Clos de Ripollet. Les jugadores llagostenques van vèncer la jornada anterior el Mont-roig per 3 a 2.
URI:https://www.llagosta.cat/actualitat/noticies/el-cd-la-concordia-derrota-el-mont-roig-per-3-a-2-i-puja-fins-a-la-quarta-posicio.html
CLASS:PUBLIC
END:VEVENT
END:VCALENDAR
