BEGIN:VCALENDAR
VERSION:2.0
CALSCALE:GREGORIAN
PRODID:-//Diputació de Barcelona//DibaCMS//EN
BEGIN:VEVENT
UID:5826
DTSTAMP:20260424T105952
DTSTART:20130221T000000
DTEND:20140212T000000
SUMMARY:El sènior de l'EBC La Llagosta guanya el darrer classificat, el Sant Gervasi 2, per 74 a 54
LOCATION:
METHOD:PUBLISH
X-WR-CALNAME:llagosta@llagosta.cat
X-WR-TIMEZONE:Europe/Madrid
DESCRIPTION:El primer equip de l'Esportiu Bàsquet Club de la Llagosta va guanyar la jornada passada el Sant Gervasi 2 per 74 a 54. Tot i el resultat, els de la nostra localitat van tenir algunes dificultats per vèncer clarament el cuer de la competició.
URI:https://www.llagosta.cat/actualitat/noticies/el-senior-de-lebc-la-llagosta-guanya-el-darrer-classificat-el-sant-gervasi-2-per-74-a-54.html
CLASS:PUBLIC
END:VEVENT
END:VCALENDAR
