BEGIN:VCALENDAR
VERSION:2.0
CALSCALE:GREGORIAN
PRODID:-//Diputació de Barcelona//DibaCMS//EN
BEGIN:VEVENT
UID:5825
DTSTAMP:20260422T160317
DTSTART:20130220T000000
DTEND:20140220T000000
SUMMARY:El taller de sembra de llavors de La Llagosta + Activa comença demà a Can Pelegrí
LOCATION:
METHOD:PUBLISH
X-WR-CALNAME:llagosta@llagosta.cat
X-WR-TIMEZONE:Europe/Madrid
DESCRIPTION:Demà, començarà el taller de sembra de llavors organitzat per l'entitat La Llagosta + Activa. L'activitat es farà a Can Pelegrí a partir de les set de la tarda. Per ara, una quinzena de persones s'han inscrit per prendre part en aquesta proposta.
URI:https://www.llagosta.cat/actualitat/noticies/el-taller-de-sembra-de-llavors-de-la-llagosta--activa-comenca-dema-a-can-pelegri.html
CLASS:PUBLIC
END:VEVENT
END:VCALENDAR
