BEGIN:VCALENDAR
VERSION:2.0
CALSCALE:GREGORIAN
PRODID:-//Diputació de Barcelona//DibaCMS//EN
BEGIN:VEVENT
UID:5824
DTSTAMP:20260424T110508
DTSTART:20130220T000000
DTEND:20140220T000000
SUMMARY:Diumenge, es farà al Parc Popular una fira d'adopcions d'animals abandonats de la Llagosta
LOCATION:
METHOD:PUBLISH
X-WR-CALNAME:llagosta@llagosta.cat
X-WR-TIMEZONE:Europe/Madrid
DESCRIPTION:El Parc Popular acollirà diumenge la primera Fira d'adopcions d'animals abandonats de la Llagosta. L'activitat es farà al matí, de deu a dues.
URI:https://www.llagosta.cat/actualitat/noticies/diumenge-es-fara-al-parc-popular-una-fira-dadopcions-danimals-abandonats-de-la-llagosta.html
CLASS:PUBLIC
END:VEVENT
END:VCALENDAR
