BEGIN:VCALENDAR
VERSION:2.0
CALSCALE:GREGORIAN
PRODID:-//Diputació de Barcelona//DibaCMS//EN
BEGIN:VEVENT
UID:5823
DTSTAMP:20260422T105355
DTSTART:20130220T000000
DTEND:20140220T000000
SUMMARY:Creu Roja Mollet-Baix Vallès organitza un curs d'Atenció Sanitària Immediata
LOCATION:
METHOD:PUBLISH
X-WR-CALNAME:llagosta@llagosta.cat
X-WR-TIMEZONE:Europe/Madrid
DESCRIPTION:Creu Roja Mollet-Baix Vallès organitza un curs d'Atenció Sanitària Immediata, nivell dos, el que abans era el curs de primers auxilis. Les inscripcions es poden fer fins divendres a la seu de l'entitat, a la plaça d'Enric Rosés, número 5, de Mollet, molt a prop de l'ambulatori de Can Pantiquet. 
URI:https://www.llagosta.cat/actualitat/noticies/creu-roja-mollet-baix-valles-organitza-un-curs-datencio-sanitaria-immediata.html
CLASS:PUBLIC
END:VEVENT
END:VCALENDAR
