BEGIN:VCALENDAR
VERSION:2.0
CALSCALE:GREGORIAN
PRODID:-//Diputació de Barcelona//DibaCMS//EN
BEGIN:VEVENT
UID:5822
DTSTAMP:20260422T235631
DTSTART:20130220T000000
DTEND:20140220T000000
SUMMARY:El sènior del Vallag es col·loca segon després de guanyar a la pista del Valldoreix
LOCATION:
METHOD:PUBLISH
X-WR-CALNAME:llagosta@llagosta.cat
X-WR-TIMEZONE:Europe/Madrid
DESCRIPTION:El sènior de l'Handbol Club Vallag de la Llagosta va vèncer per 21 a 27 el Valldoreix. Els de la nostra localitat s'han situat en segon lloc i el proper cap de setmana jugaran contra el Calella, el tercer classificat.
URI:https://www.llagosta.cat/actualitat/noticies/el-senior-del-vallag-es-colloca-segon-despres-de-guanyar-a-la-pista-del-valldoreix.html
CLASS:PUBLIC
END:VEVENT
END:VCALENDAR
