BEGIN:VCALENDAR
VERSION:2.0
CALSCALE:GREGORIAN
PRODID:-//Diputació de Barcelona//DibaCMS//EN
BEGIN:VEVENT
UID:5821
DTSTAMP:20260422T175516
DTSTART:20130219T000000
DTEND:20140219T000000
SUMMARY:Inscripcions obertes per participar en una esquiada a la Molina el 2 de març
LOCATION:
METHOD:PUBLISH
X-WR-CALNAME:llagosta@llagosta.cat
X-WR-TIMEZONE:Europe/Madrid
DESCRIPTION:El Servei d'Informació Juvenil Pelegrí, conjuntament amb altres ajuntaments de la comarca, realitzarà una esquiada a la Molina. La sortida es farà el dissabte 2 de març i les inscripcions s'han de fer a Can Pelegrí.
URI:https://www.llagosta.cat/actualitat/noticies/inscripcions-obertes-per-participar-en-una-esquiada-a-la-molina-el-2-de-marc.html
CLASS:PUBLIC
END:VEVENT
END:VCALENDAR
