BEGIN:VCALENDAR
VERSION:2.0
CALSCALE:GREGORIAN
PRODID:-//Diputació de Barcelona//DibaCMS//EN
BEGIN:VEVENT
UID:5820
DTSTAMP:20260422T141744
DTSTART:20130219T000000
DTEND:20140219T000000
SUMMARY:Adif fa una recuperació mediambiental a la zona afectada per les obres de l'AVE
LOCATION:
METHOD:PUBLISH
X-WR-CALNAME:llagosta@llagosta.cat
X-WR-TIMEZONE:Europe/Madrid
DESCRIPTION:L'empresa Adif ha finalitzat els treballs de recuperació mediambiental a la Llagosta després de la construcció de la Línia d'Alta Velocitat que va de Barcelona a Figueres. En concret, s'han restaurat gairebé nou hectàrees, set de terreny municipal i 1,7 d'una parcel·la privada.
URI:https://www.llagosta.cat/actualitat/noticies/adif-fa-una-recuperacio-mediambiental-a-la-zona-afectada-per-les-obres-de-lave.html
CLASS:PUBLIC
END:VEVENT
END:VCALENDAR
