BEGIN:VCALENDAR
VERSION:2.0
CALSCALE:GREGORIAN
PRODID:-//Diputació de Barcelona//DibaCMS//EN
BEGIN:VEVENT
UID:5819
DTSTAMP:20260422T151521
DTSTART:20130219T000000
DTEND:20140219T000000
SUMMARY:El Club Deportivo Viejas Glorias perd 2 a 1 al camp del Sant Quirze
LOCATION:
METHOD:PUBLISH
X-WR-CALNAME:llagosta@llagosta.cat
X-WR-TIMEZONE:Europe/Madrid
DESCRIPTION:El Club Deportivo Viejas Glorias va perdre el cap de setmana passat per 2 a 1 davant del Sant Quirze. La propera jornada, els de la nostra localitat rebran la visita del Can Clos.
URI:https://www.llagosta.cat/actualitat/noticies/el-club-deportivo-viejas-glorias-perd-2-a-1-al-camp-del-sant-quirze.html
CLASS:PUBLIC
END:VEVENT
END:VCALENDAR
