BEGIN:VCALENDAR
VERSION:2.0
CALSCALE:GREGORIAN
PRODID:-//Diputació de Barcelona//DibaCMS//EN
BEGIN:VEVENT
UID:5818
DTSTAMP:20260423T060725
DTSTART:20130218T000000
DTEND:20140218T000000
SUMMARY:La xerrada de la PAH va aplegar divendres unes 40 persones al Centre Cultural
LOCATION:
METHOD:PUBLISH
X-WR-CALNAME:llagosta@llagosta.cat
X-WR-TIMEZONE:Europe/Madrid
DESCRIPTION:Una quarantena de persones van assistir divendres a la xerrada sobre el dret a l'habitatge que va realitzar la Plataforma d'Afectats per la Hipoteca (PAH) de la Llagosta. L'acte va aplegar gent de la nostra localitat, de Santa Perpètua i de Mollet.
URI:https://www.llagosta.cat/actualitat/noticies/la-xerrada-de-la-pah-va-aplegar-divendres-unes-40-persones-al-centre-cultural.html
CLASS:PUBLIC
END:VEVENT
END:VCALENDAR
