BEGIN:VCALENDAR
VERSION:2.0
CALSCALE:GREGORIAN
PRODID:-//Diputació de Barcelona//DibaCMS//EN
BEGIN:VEVENT
UID:5817
DTSTAMP:20260423T013739
DTSTART:20130218T000000
DTEND:20140218T000000
SUMMARY:Obert el termini d'inscripcions per participar en la Nit de les Dones el 8 de març
LOCATION:
METHOD:PUBLISH
X-WR-CALNAME:llagosta@llagosta.cat
X-WR-TIMEZONE:Europe/Madrid
DESCRIPTION:Avui s'ha obert el termini d'inscripció per participar a la Nit de les Dones, el sopar, l'espectacle i el ball que es faran el Dia Internacional de les Dones, el 8 de març, al Centre Cultural. Les dones interessades a participar poden passar fins al 6 de març per Can Pelegrí. El preu del tiquet és de 12 euros. 
URI:https://www.llagosta.cat/actualitat/noticies/obert-el-termini-dinscripcions-per-participar-en-la-nit-de-les-dones-el-8-de-marc.html
CLASS:PUBLIC
END:VEVENT
END:VCALENDAR
