BEGIN:VCALENDAR
VERSION:2.0
CALSCALE:GREGORIAN
PRODID:-//Diputació de Barcelona//DibaCMS//EN
BEGIN:VEVENT
UID:5816
DTSTAMP:20260422T112744
DTSTART:20130218T000000
DTEND:20140218T000000
SUMMARY:Estudiants de quart de Primària de l'Escola Gilpe han visitat avui l'Ajuntament
LOCATION:
METHOD:PUBLISH
X-WR-CALNAME:llagosta@llagosta.cat
X-WR-TIMEZONE:Europe/Madrid
DESCRIPTION:Un grup d'alumnes de quart de Primària de l'Escola Gilpe han visitat aquest matí l'Ajuntament de la Llagosta. Els joves estudiants han conegut alguns serveis municipals de la mà de l'alcalde, Alberto López. La visita ha finalitzat a la sala de plens, on els alumnes han pogut fer preguntes a l'alcalde.
URI:https://www.llagosta.cat/actualitat/noticies/estudiants-de-quart-de-primaria-de-lescola-gilpe-han-visitat-avui-lajuntament.html
CLASS:PUBLIC
END:VEVENT
END:VCALENDAR
