BEGIN:VCALENDAR
VERSION:2.0
CALSCALE:GREGORIAN
PRODID:-//Diputació de Barcelona//DibaCMS//EN
BEGIN:VEVENT
UID:5815
DTSTAMP:20260423T014341
DTSTART:20130218T000000
DTEND:20140218T000000
SUMMARY:El Casal d'Avis organitza una sortida el dia 28 de febrer a la Biblioteca Arús de Barcelona
LOCATION:
METHOD:PUBLISH
X-WR-CALNAME:llagosta@llagosta.cat
X-WR-TIMEZONE:Europe/Madrid
DESCRIPTION:El Casal d'Avis organitza una sortida cultural a la Biblioteca Pública Arús, un equipament centenari de la ciutat de Barcelona. La visita es farà el proper 28 de febrer a la tarda.
URI:https://www.llagosta.cat/actualitat/noticies/el-casal-davis-organitza-una-sortida-el-dia-28-de-febrer-a-la-biblioteca-arus-de-barcelona.html
CLASS:PUBLIC
END:VEVENT
END:VCALENDAR
