BEGIN:VCALENDAR
VERSION:2.0
CALSCALE:GREGORIAN
PRODID:-//Diputació de Barcelona//DibaCMS//EN
BEGIN:VEVENT
UID:5814
DTSTAMP:20260423T001612
DTSTART:20130218T000000
DTEND:20140218T000000
SUMMARY:El Fútbol Sala Unión Llagostense guanya el cuer i suma el primer triomf del 2013
LOCATION:
METHOD:PUBLISH
X-WR-CALNAME:llagosta@llagosta.cat
X-WR-TIMEZONE:Europe/Madrid
DESCRIPTION:El primer equip del Fútbol Sala Unión Llagostense va aconseguir el cap de setmana passat la primera victòria del 2013 en derrotar el cuer, el Futsal Plata de Gràcia, per 5 a 2. Els perpetuencs han retallat les diferències respecte als dos primers classificats, que van perdre els seus respectius partits.
URI:https://www.llagosta.cat/actualitat/noticies/el-futbol-sala-union-llagostense-guanya-el-cuer-i-suma-el-primer-triomf-del-2013.html
CLASS:PUBLIC
END:VEVENT
END:VCALENDAR
