BEGIN:VCALENDAR
VERSION:2.0
CALSCALE:GREGORIAN
PRODID:-//Diputació de Barcelona//DibaCMS//EN
BEGIN:VEVENT
UID:5813
DTSTAMP:20260422T235509
DTSTART:20130215T000000
DTEND:20140215T000000
SUMMARY:El Casal Infantil va celebrar ahir el Dia dels Enamorats amb dos tallers
LOCATION:
METHOD:PUBLISH
X-WR-CALNAME:llagosta@llagosta.cat
X-WR-TIMEZONE:Europe/Madrid
DESCRIPTION:El programa d'activitats d'impacte social Casal Obert de la Regidoria d'Infància va oferir ahir una sèrie de propostes per celebrar el Dia dels Enamorats en família. Tant infants com pares i mares van gaudir d'una tarda ambientada en Sant Valentí. La celebració va comptar amb una gran participació. 
URI:https://www.llagosta.cat/actualitat/noticies/el-casal-infantil-va-celebrar-ahir-el-dia-dels-enamorats-amb-dos-tallers.html
CLASS:PUBLIC
END:VEVENT
END:VCALENDAR
