BEGIN:VCALENDAR
VERSION:2.0
CALSCALE:GREGORIAN
PRODID:-//Diputació de Barcelona//DibaCMS//EN
BEGIN:VEVENT
UID:5812
DTSTAMP:20260422T224416
DTSTART:20130215T000000
DTEND:20140215T000000
SUMMARY:L'equip sènior del Joventut Handbol jugarà demà a casa contra el Balsareny
LOCATION:
METHOD:PUBLISH
X-WR-CALNAME:llagosta@llagosta.cat
X-WR-TIMEZONE:Europe/Madrid
DESCRIPTION:El sènior del Joventut Handbol La Llagosta té la possibilitat de classificar-se matemàticament per a la fase d'ascens a Tercera Preferent si guanya demà el Balsareny. Els de la nostra localitat continuen invictes i líders de la competició.
URI:https://www.llagosta.cat/actualitat/noticies/lequip-senior-del-joventut-handbol-jugara-dema-a-casa-contra-el-balsareny.html
CLASS:PUBLIC
END:VEVENT
END:VCALENDAR
