BEGIN:VCALENDAR
VERSION:2.0
CALSCALE:GREGORIAN
PRODID:-//Diputació de Barcelona//DibaCMS//EN
BEGIN:VEVENT
UID:5811
DTSTAMP:20260422T105325
DTSTART:20130215T000000
DTEND:20140215T000000
SUMMARY:El sènior de l'EBC guanya a la pista de la Garriga B abans de rebre la visita del cuer
LOCATION:
METHOD:PUBLISH
X-WR-CALNAME:llagosta@llagosta.cat
X-WR-TIMEZONE:Europe/Madrid
DESCRIPTION:El primer equip de l'Esportiu Bàsquet Club de la Llagosta va guanyar la jornada passada la Garriga B per 68 a 75. D'aquesta manera, els llagostencs s'han retrobat amb la victòria després de quatre jornades perdent.
URI:https://www.llagosta.cat/actualitat/noticies/el-senior-de-lebc-guanya-a-la-pista-de-la-garriga-b-abans-de-rebre-la-visita-del-cuer.html
CLASS:PUBLIC
END:VEVENT
END:VCALENDAR
