BEGIN:VCALENDAR
VERSION:2.0
CALSCALE:GREGORIAN
PRODID:-//Diputació de Barcelona//DibaCMS//EN
BEGIN:VEVENT
UID:5810
DTSTAMP:20260422T122720
DTSTART:20130215T000000
DTEND:20140215T000000
SUMMARY:Els gegants de la Llagosta assistiran diumenge a la Trobada de Pallejà
LOCATION:
METHOD:PUBLISH
X-WR-CALNAME:llagosta@llagosta.cat
X-WR-TIMEZONE:Europe/Madrid
DESCRIPTION:La Colla Gegantera de la Llagosta participarà diumenge a la dinovena Trobada Gegantera de Pallejà. Aquesta serà la segona vegada que els gegants de la nostra localitat visitaran aquesta població del Baix Llobregat.
URI:https://www.llagosta.cat/actualitat/noticies/els-gegants-de-la-llagosta-assistiran-diumenge-a-la-trobada-de-palleja.html
CLASS:PUBLIC
END:VEVENT
END:VCALENDAR
